BEGIN:VCALENDAR
VERSION:2.0
PRODID:icalendar-ruby
CALSCALE:GREGORIAN
METHOD:PUBLISH
BEGIN:VEVENT
DTSTAMP:20260420T042939Z
UID:ad9fc8f6-1731-415d-9f69-7c56043291dc
DTSTART:20260423T190000
DTEND:20260423T210000
DESCRIPTION:<p><strong>Whisky Tasting & Wagyu Experience</strong></p><p><br
 ></p><p><strong>23 April 2026 | 19:00</strong></p><p>R500 pp</p><p><br></p
 ><p>Join us for an indulgent evening where exceptional Wagyu cuts meet the
  refined elegance of Glenmorangie.</p><p><br></p><p>Experience a thoughtfu
 lly curated pairing of premium Wagyu with a selection of distinguished whi
 skies\, including:</p><p><br></p><p><strong>Glenmorangie Original 12 Years
  Old</strong></p><p><strong>Glenmorangie Lasanta 15 Years Old</strong></p>
 <p><strong>Glenmorangie Infinita 18 Years Old</strong></p><p><strong>A spe
 cial surprise whisky to complete the evening</strong></p><p><br></p><p>Exp
 ect rich flavours\, smooth pours\, and a relaxed yet refined atmosphere t
 he perfect night for whisky lovers and food enthusiasts alike.</p><p><br><
 /p>
LOCATION:110 bree street 
SUMMARY:Whisky & Wagyu Experience
URL;VALUE=URI:https://www.howler.co.za/WhiskyandWagyu
END:VEVENT
END:VCALENDAR
