BEGIN:VCALENDAR
VERSION:2.0
PRODID:icalendar-ruby
CALSCALE:GREGORIAN
METHOD:PUBLISH
BEGIN:VEVENT
DTSTAMP:20260422T115310Z
UID:b202ec52-0642-450e-96dc-23e2f8ed5ec7
DTSTART:20240803T190000
DTEND:20240804T020000
DESCRIPTION:<p>Welcome to The Gallery 🎨💙</p><p>\nWhere the boundaries
  between creativity and revelry blur into one mesmerizing masterpiece.</p>
 <p>\nGet ready to explore a space transformed\, where the familiar becomes
  extraordinary. Expect the unexpected as we unveil a fresh perspective on 
 nightlife\, designed to ignite your senses and inspire your soul.</p><p>\n
 Lineup:\n🚀 Dekstir \n🚀 The Wakis \n🚀 Cliché\n🚀 JM Cools</p><p
 >\nJoin us for a night of unparalleled excitement\, where art\, music\, an
 d passion collide.</p>
LOCATION:1st floor\, Illovo Muse\, 198 Oxford Rd\, Illovo\, Johannesburg\, 
 2196
SUMMARY:Welcome to The Gallery 
URL;VALUE=URI:https://www.howler.co.za/welcometothegallery
END:VEVENT
END:VCALENDAR
