BEGIN:VCALENDAR
VERSION:2.0
PRODID:icalendar-ruby
CALSCALE:GREGORIAN
METHOD:PUBLISH
BEGIN:VEVENT
DTSTAMP:20260424T082229Z
UID:b6796f91-bce7-4751-a25b-1afc67779205
DTSTART:20260425T120000
DTEND:20260425T220000
DESCRIPTION:<p><span>Vintage Lounge is a curated monthly rooftop experience
  combining refined lounge/alternative and deep house with sunset views.</s
 pan></p>
LOCATION:Cnr of Oxford and Parks Boulevarad\, Oxford Parks\, 4 Parks Boulev
 ard\, Dunkeld\, Johannesburg\, 2196
SUMMARY:VINTAGE LOUNGE: April Edition
URL;VALUE=URI:https://www.howler.co.za/VintageLoungeAprilEdition
END:VEVENT
END:VCALENDAR
