BEGIN:VCALENDAR
VERSION:2.0
PRODID:icalendar-ruby
CALSCALE:GREGORIAN
METHOD:PUBLISH
BEGIN:VEVENT
DTSTAMP:20260421T075344Z
UID:eae51c60-797e-43cc-a8af-27341c17055b
DTSTART:20260425T140000
DTEND:20260426T020000
DESCRIPTION:<h3>Official Park and Ride – <strong>Ultra South Africa Johan
 nesburg</strong></h3><p><br></p><p>Get to <strong>ULTRA SA Johannesburg on
  25 April 2026</strong> the smartest way possible with the <strong>officia
 l Park and Ride service</strong> — designed for speed\, safety and a sea
 mless festival experience.</p><p><br></p><p>This service is proudly delive
 red by <strong>Park and Ride SA (Pty) Ltd</strong>\, in conjunction with T
 raffic Management\, to ensure <strong>stress-free access</strong> to the e
 vent using <strong>dedicated transport lanes and exclusive parking facilit
 ies</strong>.</p><p><br></p><p>Your Park and Ride ticket includes <strong>
 return coach transport</strong> and <strong>free undercover parking</stron
 g> at all official departure points.</p><p><br></p><p>Buses will depart fr
 om the departure points at <strong>14h00 and 16h00</strong>\, operating ef
 ficiently as vehicles fill up.</p><p><br></p><p>Return services will be av
 ailable from the venue at <strong>22h00\, 24h00 and 02h00</strong>\, with 
 buses departing as they fill to ensure smooth and controlled exits through
 out the night.</p><p><br></p><p>For any additional information or assistan
 ce\, please contact</p><p><br></p><p><strong>info@parkandridesa.com</stron
 g></p><p>WhatsApp <strong>+27 71 678 5740</strong></p><p><strong>Call +27 
 71 678 5740</strong></p><p><br></p>
LOCATION:Cnr Nasrec & Rand Show\, Nasrec
SUMMARY:Ultra Johannesburg - Park and Ride
URL;VALUE=URI:https://www.howler.co.za/PRULTRAJHB
END:VEVENT
END:VCALENDAR
