BEGIN:VCALENDAR
VERSION:2.0
PRODID:icalendar-ruby
CALSCALE:GREGORIAN
METHOD:PUBLISH
BEGIN:VEVENT
DTSTAMP:20260421T093537Z
UID:83d96c0d-51f8-4f3c-bc01-a43b69943c70
DTSTART:20260426T140000
DTEND:20260427T020000
DESCRIPTION:<h3><span>Official Park and Ride – </span><strong>Ultra South
  Africa Johannesburg</strong></h3><p><br></p><p><span>Get to </span><stron
 g>ULTRA SA Cape Town on 26 April 2026</strong><span> the smartest way poss
 ible with the </span><strong>official Park and Ride service</strong><span>
  — designed for speed\, safety and a seamless festival experience.</span
 ></p><p><br></p><p><span>This service is proudly delivered by </span><stro
 ng>Park and Ride SA (Pty) Ltd</strong><span>\, in conjunction with Traffic
  Management\, to ensure </span><strong>stress-free access</strong><span> t
 o the event using </span><strong>dedicated transport lanes and exclusive p
 arking facilities</strong><span>.</span></p><p><br></p><p><span>Your Park 
 and Ride ticket includes </span><strong>return coach transport</strong><sp
 an> and </span><strong>free undercover parking</strong><span> at all offic
 ial departure points.</span></p><p><br></p><p><span>Buses will depart from
  the departure points at </span><strong>14h00 and 16h00</strong><span>\, o
 perating efficiently as vehicles fill up.</span></p><p><br></p><p><span>Re
 turn services will be available from the venue at </span><strong>22h00\, 2
 4h00 and 02h00</strong><span>\, with buses departing as they fill to ensur
 e smooth and controlled exits throughout the night.</span></p><p><br></p><
 p><span>For any additional information or assistance\, please contact</spa
 n></p><p><br></p><p><strong>info@parkandridesa.com</strong></p><p><span>Wh
 atsApp </span><strong>+27 71 678 5740</strong></p><p><strong>Call +27 71 6
 78 5740</strong></p><p><br></p><p><br></p>
LOCATION:VAN SCHOORSDRIF ROAD PHILADELPHIA OFF N7\, CAPE TOWN\, WESTERN CAP
 E
SUMMARY:Ultra Cape Town - Park and Ride
URL;VALUE=URI:https://www.howler.co.za/PRULTRACPT
END:VEVENT
END:VCALENDAR
