BEGIN:VCALENDAR
VERSION:2.0
PRODID:icalendar-ruby
CALSCALE:GREGORIAN
METHOD:PUBLISH
BEGIN:VEVENT
DTSTAMP:20260425T005419Z
UID:7509703a-d904-4d64-952f-659451327934
DTSTART:20200801T190000
DTEND:20200815T203000
DESCRIPTION:<p>Join me for a show put together with all the songs you asked
  for on my Lockdown Live shows. Get your drinks and snacks ready \, sit ba
 ck and enjoy the show right from you couch. </p>
SUMMARY:Tian Nienaber - Best of Lockdown Live
URL;VALUE=URI:https://www.howler.co.za/bestoflockdownlive
END:VEVENT
END:VCALENDAR
