BEGIN:VCALENDAR
VERSION:2.0
PRODID:icalendar-ruby
CALSCALE:GREGORIAN
METHOD:PUBLISH
BEGIN:VEVENT
DTSTAMP:20260424T133201Z
UID:d7b410da-f118-43d3-a68f-9656b5db479d
DTSTART:20260426T140000
DTEND:20260427T020000
DESCRIPTION:<p>The Blom & Braai\, lekker food\, lekker event </p>
LOCATION:2 Ring Rd W\, New Redruth\, Alberton\, 1449
SUMMARY:THE SUNDAY BLOM
URL;VALUE=URI:https://www.howler.co.za/blombraai26
END:VEVENT
END:VCALENDAR
