BEGIN:VCALENDAR
VERSION:2.0
PRODID:icalendar-ruby
CALSCALE:GREGORIAN
METHOD:PUBLISH
BEGIN:VEVENT
DTSTAMP:20260421T054852Z
UID:b72de2cf-0b16-41eb-8a0d-56c0327cddd5
DTSTART:20260423T160000
DTEND:20260424T060000
DESCRIPTION:<p>The Last Affair - 23 April</p><p>The Greenhouse\, Sandton</p
 >
LOCATION:Sandton 
SUMMARY:The Last Affair - 23 April
URL;VALUE=URI:https://www.howler.co.za/thelastaffair
END:VEVENT
END:VCALENDAR
