BEGIN:VCALENDAR
VERSION:2.0
PRODID:icalendar-ruby
CALSCALE:GREGORIAN
METHOD:PUBLISH
BEGIN:VEVENT
DTSTAMP:20260424T133555Z
UID:d8258d77-1ec5-4614-9003-b7dab3ebf498
DTSTART:20260427T100000
DTEND:20260427T120000
DESCRIPTION:<p><strong>Slime Workshop on 27 April 🧪🫧</strong></p><p><
 br></p><p><span>Get ready for gooey fun at our Slime Workshop - the ultima
 te hands-on sensory adventure for curious kids! ✨🌈 Young scientists w
 ill mix\, stretch\, and experiment as they create their own colourful\, sq
 uishy slime creations. It’s messy\, creative\, and packed with fun! 🎉
 </span></p><p><br></p><p><span>Perfect for little explorers who love getti
 ng hands-on and trying something new. 🎨🧠 Reserve your spot today! 
 ✨</span></p><p><br></p><p><span>🎟️ </span><strong>TICKET INFO</stro
 ng></p><p><span>R150 per person for the Workshop & Playtime Combo</span></
 p><p><span>Tickets are available at:</span></p><p><a href="http://www.howl
 er.co.za/kidsfactory" target="_blank" style="color: rgb(118\, 79\, 219)\;"
 >www.howler.co.za/kidsfactory</a></p><p><br></p><p><strong>The combo inclu
 des:</strong></p><p><span>🧪 Slime Workshop</span></p><p><span>🛝 90 m
 inutes of play time at Kids Factory</span></p><p><em>(Excludes compulsory 
 safety grip socks - R35 per pair or bring your own KF pair)</em></p><p><br
 ></p><p><span>Spots are limited. Book soon!</span></p><p><br></p><p><span>
 📍 </span><strong>Where:</strong><span> Kids Factory\, 17 Bottelary Road
 \, Brackenfell\, Cape Town</span></p><p><span>📅 </span><strong>When:</s
 trong><span> Monday\, 27 April 2026</span></p><p><span>⏰ </span><strong>
 Time:</strong><span> 10:00 – 12:00</span></p><p><span>💰 </span><stron
 g>Cost:</strong><span> R150 per child (excl Howler fee)</span></p><p><br><
 /p><p><span>Recommended age: 2 to 10</span></p><p><span>We have a licensed
  restaurant on site</span></p><p><span>All-inclusive workshops for boys & 
 girls</span></p><p><span>Ticket excludes compulsory Kids Factory grip sock
 s</span></p><p><br></p><p><span>📞 Call 079 219 6577</span></p><p><span>
 📲 WhatsApp 084 990 4482</span></p><p><br></p><p><br></p>
LOCATION:17 Bottelary Road\, Brackenfell
SUMMARY:Slime Workshop & Playtime at Kids Factory 🫧
URL;VALUE=URI:https://www.howler.co.za/Slime27April
END:VEVENT
END:VCALENDAR
