BEGIN:VCALENDAR
VERSION:2.0
PRODID:icalendar-ruby
CALSCALE:GREGORIAN
METHOD:PUBLISH
BEGIN:VEVENT
DTSTAMP:20260424T122008Z
UID:1f08034a-f9d1-427b-95a9-abe8662c6b3c
DTSTART:20260426T150000
DTEND:20260426T180000
DESCRIPTION:<p><span>Slip on your LED wireless headset\, choose your vibe 
 — Red\, Blue\, or Green channel — and dance as the sunset.</span></p><
 p><br></p><p><span>3 Djs\, 3 genres\, 3 choices</span></p><p><span>- Blue:
  House / Techno</span></p><p><span>- Green: 3step + Amapiano + Gqom</span>
 </p><p><span>- Red: Pop + RnB + HipHop + Yaadt</span></p><p><br></p><p><u>
 Disclaimer</u></p><p><span style="color: rgb(0\, 0\, 0)\;">By attending\, 
 you accept all risks and agree that WeAreSilentVibe is not liable for inju
 ries\, lost items\, or damages. Attend responsibly\, respect others\, and 
 return headsets in the same condition (not damaged and not wet).</span></p
 ><p><br></p><p><span style="color: rgb(0\, 0\, 0)\;">In the event of postp
 onement due to weather or unforeseen circumstances\, tickets will automati
 cally be transferred to the rescheduled date. Refunds will not be issued.<
 /span></p><p><br></p><p><span style="color: rgb(0\, 0\, 0)\;">Photos and v
 ideos may be taken for promotional purposes. If you do not consent\, pleas
 e inform a crew member.</span></p><p><br></p>
LOCATION:Cnr of Oxford and Parks Boulevarad\, Oxford Parks\, 4 Parks Boulev
 ard\, Dunkeld\, Johannesburg\, 2196
SUMMARY:Silent disco Radisson Red Rooftop
URL;VALUE=URI:https://www.howler.co.za/SilentDisco-WeAreSilentVibe
END:VEVENT
END:VCALENDAR
