BEGIN:VCALENDAR
VERSION:2.0
PRODID:icalendar-ruby
CALSCALE:GREGORIAN
METHOD:PUBLISH
BEGIN:VEVENT
DTSTAMP:20260424T094442Z
UID:1274d74f-9768-49b2-bd48-c318a6c62cdd
DTSTART:20260425T160000
DTEND:20260425T190000
DESCRIPTION:<p><span>Slip on your LED wireless headset\, choose your vibe 
 — Red\, Blue\, or Green channel — and dance as the sunset.</span></p><
 p><br></p><p><span>3 Djs\, 3 genres\, 3 choices</span></p><p><span>- Blue:
  House / Techno</span></p><p><span>- Green: 3step + Amapiano + Gqom</span>
 </p><p><span>- Red: Pop + RnB + HipHop + Yaadt</span></p><p><br></p><p><u>
 Disclaimer</u></p><p><span style="color: rgb(0\, 0\, 0)\;">By attending\, 
 you accept all risks and agree that WeAreSilentVibe is not liable for inju
 ries\, lost items\, or damages. Attend responsibly\, respect others\, and 
 return headsets in the same condition (not damaged and not wet).</span></p
 ><p><br></p><p><span style="color: rgb(0\, 0\, 0)\;">In the event of postp
 onement due to weather or unforeseen circumstances\, tickets will automati
 cally be transferred to the rescheduled date. Refunds will not be issued.<
 /span></p><p><br></p><p><span style="color: rgb(0\, 0\, 0)\;">Photos and v
 ideos may be taken for promotional purposes. If you do not consent\, pleas
 e inform a crew member.</span></p><p><br></p>
LOCATION:2 Marine Dr\, Table View\, Cape Town\, 7441
SUMMARY:Silent Disco Blouberg Beach
URL;VALUE=URI:https://www.howler.co.za/WeAreSilentVibe-SilentDisco
END:VEVENT
END:VCALENDAR
