BEGIN:VCALENDAR
VERSION:2.0
PRODID:icalendar-ruby
CALSCALE:GREGORIAN
METHOD:PUBLISH
BEGIN:VEVENT
DTSTAMP:20260419T124514Z
UID:2642e995-5843-4f44-ab72-7d8443abb95d
DTSTART:20260516T140000
DTEND:20260516T220000
DESCRIPTION:<p>Get ready as Unleashed is back with a BANG!</p><p><br></p><p
 >We Brought you FOAMO (The Original U18 Foam Party) and Now Its PULSE Fest
  !!!</p><p><br></p><p>Your Under18 experience is back in full force with s
 ome New & Fresh experiences that await you.</p><p>Unleashed proudly presen
 ts PULSE U18 FEST!!!</p><p><br></p><p>Unleashed U19 is a safe and secure e
 vent designed for the high school youth\, for ages 13 to 18 years old\, ty
 pically for those in Gr8 to Matrics\, giving them an opportunity to be ho
 sted in Jhb’s Top Venues.</p><p><br></p><p>These are Fully supervised u1
 8 fun-filled events.</p><p> </p><p>Details:</p><p><strong>Event name:</st
 rong> Pulse U18 Fest</p><p><strong>Where:</strong> Aura Quad Garden - 160 
 Jan Smuts\, Rosebank</p><p><strong>When:</strong> Saturday 16 May 2026</p>
 <p><strong>Times:</strong> 2pm – 10pm. Music will be cut off at 10pm.</p
 ><p><strong>Tickets:</strong> Early Bird sales launch Sun 5 Apr.</p><p> <
 /p><p><strong>Early Bird Tickets:</strong></p><p>R150 General entry</p><p>
 R200 VIP access</p><p>R500 V-VIP All access incl backstage area</p><p><br>
 </p><p>RULES & REGULATIONS</p><p>No alcohol\, No hubbly permitted\, No ill
 egal substances </p><p><br></p>
LOCATION:160 Jan Smuts Rosebank
SUMMARY:Pulse Under 18 Fest - Sat 16 May
URL;VALUE=URI:https://www.howler.co.za/PulseFest2026
END:VEVENT
END:VCALENDAR
