BEGIN:VCALENDAR
VERSION:2.0
PRODID:icalendar-ruby
CALSCALE:GREGORIAN
METHOD:PUBLISH
BEGIN:VEVENT
DTSTAMP:20260424T093926Z
UID:77e2efe8-9b3a-455b-a37f-acbb873c9e2f
DTSTART:20260425T134500
DTEND:20260425T180000
DESCRIPTION:
LOCATION:street name 
SUMMARY:Polo Exibition
URL;VALUE=URI:https://www.howler.co.za/events/polo-exibition-5e77
END:VEVENT
END:VCALENDAR
