BEGIN:VCALENDAR
VERSION:2.0
PRODID:icalendar-ruby
CALSCALE:GREGORIAN
METHOD:PUBLISH
BEGIN:VEVENT
DTSTAMP:20260424T133201Z
UID:de688d51-0c31-451e-8cea-ede45f42413b
DTSTART:20260427T130000
DTEND:20260428T020000
DESCRIPTION:<p>Moonlight & West and Quite The Ordinary Podcast present Only
  Alter Egos Vol. 2 🔥</p><p><br></p><p>Returning for its second chapter 
 as Sandton's biggest day-to-night party this Freedom Day.</p><p><br></p><p
 >Doors open at 1pm.</p>
LOCATION:58 Wierda Rd\, Wierda Valley\, Sandown\, Sandton
SUMMARY:Only Alter Egos Vol. 2
URL;VALUE=URI:https://www.howler.co.za/onlyalteregos2
END:VEVENT
END:VCALENDAR
