BEGIN:VCALENDAR
VERSION:2.0
PRODID:icalendar-ruby
CALSCALE:GREGORIAN
METHOD:PUBLISH
BEGIN:VEVENT
DTSTAMP:20260424T094351Z
UID:50e3629d-d81b-46fe-b408-eae089d299f6
DTSTART:20260425T120000
DTEND:20260426T010000
DESCRIPTION:<p><span>A nostalgic flavored DAY PARTY taking you through Clas
 sic Hip-Hop\, House\, RNB\, Kwaito\, African Classics\, Soul\, Funk\, Danc
 ehall and more from the 80’s\, 90’s & Early 2000’s.</span></p><p><br
 ></p><p><span>For Table Bookings Contact: +27635630037 (Whatsapp - Only - 
 9am - 6pm)</span></p><p><br></p>
LOCATION:58 Wierda Rd\, Wierda Valley\, Sandown\, Sandton
SUMMARY:NOT ANOTHER OLD SCHOOL PARTY!
URL;VALUE=URI:https://www.howler.co.za/notanotheroldschoolparty7
END:VEVENT
END:VCALENDAR
