BEGIN:VCALENDAR
VERSION:2.0
PRODID:icalendar-ruby
CALSCALE:GREGORIAN
METHOD:PUBLISH
BEGIN:VEVENT
DTSTAMP:20260424T094345Z
UID:419ea449-a8fb-4b03-80af-5e5f4a0e74f3
DTSTART:20260425T150000
DTEND:20260426T020000
DESCRIPTION:<p><strong>NEW GEN ALL BLACK PARTY</strong> 🏛️🔥</p><p>P
 resented by L-Tido Network and in support of Akward & Cheat Codes</p><p>St
 ep into luxury. Step into the new wave.</p><p>The <em>New Gen All Black Pa
 rty</em> is where culture\, music and energy collide in an exclusive mansi
 on setting. Expect a premium day-to-night experience filled with high-leve
 l vibes\, beautiful people\, and non-stop sounds curated for the new gener
 ation.</p><p>From 2PM till late\, we’re taking over a private mansion fo
 r a one-of-a-kind celebration of youth culture — think outdoor energy\, 
 summer aesthetics\, elite playlists and unforgettable moments.</p><p>✨ W
 hat to expect:</p><p>• A luxury mansion atmosphere</p><p>• Top-tier DJ
 s & curated sounds</p><p>• Content-worthy spaces</p><p>• Day party ene
 rgy that turns into a late-night vibe</p><p>• A carefully selected crowd
 </p><p>📍 Location: 18 Robin Drive\, Fourways</p><p>🎟 Limited tickets
  available — once they’re gone\, they’re gone. Limited tickets will 
 also be sold at the gate.</p><p>This isn’t just a party. It’s a statem
 ent.</p><p>Welcome to the New Gen era.</p><p>#NewGenMansionParty #AwkwardA
 ndCheatCodes #LidoNetwork</p><p><br></p>
LOCATION:18 Robin Drive\, Fourways
SUMMARY:New Gen All Black Party
URL;VALUE=URI:https://www.howler.co.za/newgenallblackparty
END:VEVENT
END:VCALENDAR
