BEGIN:VCALENDAR
VERSION:2.0
PRODID:icalendar-ruby
CALSCALE:GREGORIAN
METHOD:PUBLISH
BEGIN:VEVENT
DTSTAMP:20260421T091027Z
UID:465249ed-479d-4cb5-88ef-03633f2cc013
DTSTART:20260430T180000
DTEND:20260501T030000
DESCRIPTION:<p>LIVE ESSENCE — a night where music is not just played\, bu
 t felt.</p><p>No pictures. No videos - at Joburg’s newest hot spot.</p><
 p><br></p><p>A special night with legendary Harrison Crump.</p><p>We begin
  in the restaurant — one of Joburg’s vibrant hotspots — and move int
 o the club from 21:00 as the energy builds. A journey from soul to house t
 o afro\, guided by rhythm\, connection\, and live expression.</p><p><br></
 p><p>PK opens the evening in the restaurant with a live fingerprint art se
 ssion and silent auction\, guided by Nikita’s finest music selection\, s
 etting the tone for a night rooted in creativity and connection.</p><p><br
 ></p><p>At eight.thenightclub\, expect DJ sets blended with live elements 
 - flute\, keys\, and percussion - creating a sound that is raw and organic
 \, while MC Tay Melanin guides you through the night.</p><p><br></p><p>We
 ’ll also be celebrating an exclusive pre-release from</p><p>Tomby & Harr
 ison Crump & Gino Brown ft. PK - first play\, first experience\, on the da
 nce floor.</p><p><br></p><p>This is not just a party. It’s a space to co
 nnect\, to move\, and to be present in the music.</p><p>Come early. Stay l
 ate. Feel everything.</p><p><br></p>
LOCATION:9 Walters Street\, Rosebank 
SUMMARY:LIVE ESSENCE
URL;VALUE=URI:https://www.howler.co.za/live_essence
END:VEVENT
END:VCALENDAR
