BEGIN:VCALENDAR
VERSION:2.0
PRODID:icalendar-ruby
CALSCALE:GREGORIAN
METHOD:PUBLISH
BEGIN:VEVENT
DTSTAMP:20260424T122351Z
UID:8a6e81d7-fee4-4019-9e8f-f8c71cc7da60
DTSTART:20260426T130000
DTEND:20260427T020000
DESCRIPTION:<h2><strong>Just Another Sunday: The Nostalgia Trip</strong></h
 2><p><strong>Forget the "Sunday Scaries." Since tomorrow is a holiday\, we
 ’re turning the clock back.</strong></p><p><strong>Just Another Sunday</
 strong><span> is a curated experience designed to hit the pause button on 
 the "now" and lean into the timeless feeling of what Sundays were always m
 eant to represent: </span><strong>Togetherness.</strong><span> We’re bri
 nging friends back together to create new memories under the influence of 
 old-school magic.</span></p><p><br></p><h3><strong>What to Expect</strong>
 </h3><ul><li><strong>The Sound:</strong><span> An expert curation of throw
 back anthems. We’re talking about the tracks that defined your favorite 
 eras\, mixed to perfection to keep the energy high and the nostalgia deepe
 r.</span></li><li><strong>The Taste:</strong><span> Great food and even be
 tter drinks. A menu designed for socialising\, sipping\, and celebrating.<
 /span></li><li><strong>The Vibe:</strong><span> High energy\, zero stress.
  It’s a space to disconnect from the digital noise and reconnect with yo
 ur tribe.</span></li><li><br></li></ul><h3><strong>The Best Part? No Monda
 y.</strong></h3><p><span>Because the next day is a holiday\, we have offic
 ially cancelled the Sunday blues. There are no early nights and no alarms
 —just pure\, unadulterated vibes from afternoon to evening.</span></p><b
 lockquote><strong>"It’s more than a party\; it’s a feeling. It’s abo
 ut the music you remember\, the friends you love\, and the Sunday you dese
 rve."</strong></blockquote><blockquote><br></blockquote><h3><strong>Event 
 Details</strong></h3><ul><li><strong>Mood:</strong><span> Nostalgic / Vibr
 ant / Soulful</span></li><li><strong>Music:</strong><span> Strictly Throwb
 ack Curation</span></li><li><strong>Crowd:</strong><span> Good vibes only
 —bring your favorite people.</span></li></ul><p><span class="ql-cursor">
 ﻿</span></p><p><strong>Grab your tickets now. Let’s make this more tha
 n Just Another Sunday.</strong></p><p><br></p>
LOCATION:19 Wessel Road\, Edenburg\, Rivonia\, Johannesburg\, 2021
SUMMARY:Just Another Sunday | 26 April 2026
URL;VALUE=URI:https://www.howler.co.za/justanothersunday
END:VEVENT
END:VCALENDAR
