BEGIN:VCALENDAR
VERSION:2.0
PRODID:icalendar-ruby
CALSCALE:GREGORIAN
METHOD:PUBLISH
BEGIN:VEVENT
DTSTAMP:20260419T175647Z
UID:00c86c02-4f86-44a6-8c7f-1b1088624104
DTSTART:20250101T030000
DTEND:20250102T100000
DESCRIPTION:<p><span>Kick off the New Year in unparalleled style at “High
  Notes South Africa\,” the premier wine and music celebration set agains
 t the breathtaking backdrop of Cape Town’s skyline. This exclusive rooft
 op event combines the finest in South African wines\, vibes\, and electrif
 ying music\, promising an unforgettable start to 2025.</span></p><p><br></
 p><p><strong>Highlights:</strong></p><p><span>	•	</span><strong>World-Cl
 ass DJs:</strong><span> Groove to the beats of renowned DJs and Hosts hail
 ing from South Africa\, London\, Nigeria\, New York\, Atlanta\, and Los An
 geles\, each bringing their unique sound to keep you dancing all day long.
 </span></p><p><span>	•	</span><strong>Premium Wine Selection:</strong><s
 pan> Savor a curated assortment of South Africa’s top wines\, available 
 by the glass or bottle. Featured selections include:</span></p><p><span>	
 •	</span><strong>Sauvignon Blanc</strong><span> (First Sighting)</span><
 /p><p><span>	•	</span><strong>Chardonnay</strong><span> (Haute Cabrière
 )</span></p><p><span>	•	</span><strong>Pinot Noir</strong><span> (Haute 
 Cabrière)</span></p><p><span>	•	</span><strong>Cabernet Sauvignon</stro
 ng><span> (Alto Estate)</span></p><p><span>	•	</span><strong>Red Blend</
 strong><span> (Kanonkop Kadette)</span></p><p><span>Additionally\, enjoy s
 pecial pricing on sparkling options:</span></p><p><span>	•	bottles of So
 uth African Brut and Sparkling Rosé</span></p><p><span>	•	bottles of Mo
 ët & Chandon Brut and Rosé</span></p><p><span>	•	</span><strong>Stunni
 ng Rooftop Ambiance:</strong><span> Experience the event under a retractab
 le skylight\, offering the ideal setting whether under the sun or stars\, 
 with panoramic views of Cape Town’s iconic landscape.</span></p><p><br><
 /p><p><br></p>
LOCATION:170 Bree Street\, Cape Town City Centre\, Cape Town 
SUMMARY:High Notes by Fine Wine Series: New Year’s Day Wine Celebration 
URL;VALUE=URI:https://www.howler.co.za/highnotesbyfws
END:VEVENT
END:VCALENDAR
