BEGIN:VCALENDAR
VERSION:2.0
PRODID:icalendar-ruby
CALSCALE:GREGORIAN
METHOD:PUBLISH
BEGIN:VEVENT
DTSTAMP:20260424T105939Z
UID:a28936db-f2bd-4fe9-a27c-12fea7621474
DTSTART:20260425T200000
DTEND:20260426T020000
DESCRIPTION:<p>𝗚𝗥𝗢𝗢𝗩𝗘 𝗽𝗿𝗲𝘀𝗲𝗻𝘁𝘀: 
 𝗪𝗲 𝗟𝗼𝘃𝗲 𝗧𝗵𝗲 𝟵𝟬’𝘀 🎶</p><p>🎧  
 𝗦𝗺𝗼𝗼𝘁𝗵 𝗥&𝗕 | 𝗖𝗹𝗮𝘀𝘀𝗶𝗰 𝗛𝗼
 𝘂𝘀𝗲 | 𝗣𝗮𝗿𝘁𝘆 𝗛𝗶𝘁𝘀 | 𝗛𝗶𝗽 𝗛
 𝗼𝗽</p><p>📍 La Rosa – Monte Casino</p><p>📅 Saturday\, 25th Ap
 ril 2026</p><p>⏰ DJs kick off at 8PM</p><p><br></p><p>This is your invit
 ation to experience one of the grooviest nights in Johannesburg\, where th
 e music is timeless\, the energy is unmatched\, and the dancefloor stays a
 live.</p><p><br></p><p>🎉 𝗖𝗲𝗹𝗲𝗯𝗿𝗮𝘁𝗶𝗻𝗴 
 𝘆𝗼𝘂𝗿 𝗯𝗶𝗿𝘁𝗵𝗱𝗮𝘆?</p><p>Celebrate with us
  and bring Balloons and your birthday cake. </p>
LOCATION:Shop 2\, Montecasino\, Montecasino Boulevard\, Fourways Randburg N
 orth 2055 ·
SUMMARY:Groove - We Love The 90s - 25 April
URL;VALUE=URI:https://www.howler.co.za/WeLoveThe90s_25April
END:VEVENT
END:VCALENDAR
