BEGIN:VCALENDAR
VERSION:2.0
PRODID:icalendar-ruby
CALSCALE:GREGORIAN
METHOD:PUBLISH
BEGIN:VEVENT
DTSTAMP:20260424T133028Z
UID:326da127-0f6b-4b1d-876a-b43f6e1757df
DTSTART:20260426T170000
DTEND:20260427T020000
DESCRIPTION:<p>Join us for FIESTA CLAVA Summer Edition\, the Summer RAGER o
 f the year! Come thru in your sickest summer fit and get ready for a night
  of lit moments\, epic memories\, and non-stop fun! Let's go!</p>
LOCATION:1 Drakensburg blvd\, Alrode
SUMMARY:Fiesta Clava
URL;VALUE=URI:https://www.howler.co.za/FC2026
END:VEVENT
END:VCALENDAR
