BEGIN:VCALENDAR
VERSION:2.0
PRODID:icalendar-ruby
CALSCALE:GREGORIAN
METHOD:PUBLISH
BEGIN:VEVENT
DTSTAMP:20260425T154101Z
UID:25e863be-ae00-4841-9154-0c6dd5b7fdee
DTSTART:20240913T170000
DTEND:20241014T010000
DESCRIPTION:<p><br></p>
LOCATION:Umhlanga\, 4319
SUMMARY:End
URL;VALUE=URI:https://www.howler.co.za/anightinparisa
END:VEVENT
END:VCALENDAR
