BEGIN:VCALENDAR
VERSION:2.0
PRODID:icalendar-ruby
CALSCALE:GREGORIAN
METHOD:PUBLISH
BEGIN:VEVENT
DTSTAMP:20260425T025718Z
UID:be521c3b-e0d3-4be6-9de0-edf61ad3bb07
DTSTART:20210918T090000
DTEND:20210919T170000
DESCRIPTION:<p>25 years of music and magic!</p><p>It’s been a long hard w
 alk in the event industry for everyone. We have decided to move forth with
  the 2021 event as we feel that by September\, times will ease. The event 
 will be strictly limited to 500 people.</p><p>This event will be more on t
 he Intimate side of life but still upholding a world class production you 
 Earthdancers expect.</p>
LOCATION:Hennops
SUMMARY:Earthdance JHB
URL;VALUE=URI:https://www.howler.co.za/earthdancejhb2021
END:VEVENT
END:VCALENDAR
