BEGIN:VCALENDAR
VERSION:2.0
PRODID:icalendar-ruby
CALSCALE:GREGORIAN
METHOD:PUBLISH
BEGIN:VEVENT
DTSTAMP:20260424T105632Z
UID:69de4d04-7b9b-47fe-9905-f09d162e23ee
DTSTART:20260425T190000
DTEND:20260426T010000
DESCRIPTION:<p><span>Where cultures collide and connect 🌍</span></p><p><
 br></p><p><span>Continental Nights takes on a Greek-inspired energy\, wher
 e timeless culture meets modern sound. From classic influences to contempo
 rary beats\, the night blends tradition and tempo on one unforgettable dan
 ce floor.</span></p><p><br></p><p><span>Expect global grooves\, Mediterran
 ean moods\, and a crowd moving as one as the rhythm builds and the energy 
 rises. 🎧</span></p><p><br></p>
LOCATION:9 Skeen Boulevard\, Bedfordview\, Johannesburg
SUMMARY:Continental Nights
URL;VALUE=URI:https://www.howler.co.za/continentalnights2
END:VEVENT
END:VCALENDAR
