BEGIN:VCALENDAR
VERSION:2.0
PRODID:icalendar-ruby
CALSCALE:GREGORIAN
METHOD:PUBLISH
BEGIN:VEVENT
DTSTAMP:20260424T133658Z
UID:c048ebe1-784b-4fc6-9947-d8d8274f0608
DTSTART:20260427T090000
DTEND:20260428T180000
DESCRIPTION:<p>Three UEFA A Licensed coaches from Charlton Athletic are tra
 velling to South Africa for an exclusive Elite Training & Talent Identific
 ation experience\, giving players a rare opportunity to train under top-le
 vel European methodology.</p><p><br></p><p>Across four days in Gauteng\, p
 layers will be exposed to high-intensity\, structured sessions focused on 
 technical development\, decision-making\, and game understanding. Each ses
 sion is designed to challenge players in realistic match scenarios\, with 
 direct feedback from professional coaches who work within one of England
 ’s most respected development systems.</p><p><br></p><p>This is more tha
 n just training. It’s a chance to be seen\, assessed\, and pushed in an 
 environment that reflects the demands of the professional game.</p><p><br>
 </p><p>Open to players aged 6–19. Limited spaces available.</p><p><br></
 p><p>To register a player : https://forms.gle/7deyFScqR4BodGmdA</p><p><br>
 </p><p>Parents Info Group : <a href="https://chat.whatsapp.com/Lbs2d53ibW6
 3ckgY9rIomH?mode=gi_t" target="_blank" style="color: rgb(17\, 85\, 204)\;"
 >https://chat.whatsapp.com/Lbs2d53ibW63ckgY9rIomH?mode=gi_t</a></p><p><br>
 </p>
LOCATION:78 George Storrar Street\, Groenkloof
SUMMARY:Charlton Athletic (South Africa Clinics)
URL;VALUE=URI:https://www.howler.co.za/charltonSA
END:VEVENT
END:VCALENDAR
