BEGIN:VCALENDAR
VERSION:2.0
PRODID:icalendar-ruby
CALSCALE:GREGORIAN
METHOD:PUBLISH
BEGIN:VEVENT
DTSTAMP:20260425T033137Z
UID:4697098e-6ac6-4ce3-a740-41dc95347358
DTSTART:20240928T140000
DTEND:20240929T020000
DESCRIPTION:<p><span style="color: rgb(55\, 65\, 81)\;">BTOR (Symphony of E
 legance and Grace)\, Back To Our Roots promises one-of-a-kind performances
 \, engaging event and content with prestigious celebration of top local mu
 sical talent. </span><span style="color: rgb(55\, 65\, 81)\;">We are thril
 led about the production that we are putting together\, which will compris
 e incredible performances and a host of moments that will not easily be fo
 rgotten. </span></p>
LOCATION:58 Anderson Street\, Johannesburg\, Gauteng\, 2001
SUMMARY:BTOR
URL;VALUE=URI:https://www.howler.co.za/btor_
END:VEVENT
END:VCALENDAR
