BEGIN:VCALENDAR
VERSION:2.0
PRODID:icalendar-ruby
CALSCALE:GREGORIAN
METHOD:PUBLISH
BEGIN:VEVENT
DTSTAMP:20260424T105932Z
UID:e9b40238-4dfa-4259-8aad-ce0dd3110c35
DTSTART:20260425T170000
DTEND:20260426T000000
DESCRIPTION:<h3>🌿 BOTANIQUE: A Dance Beneath the Milkwood 🌿</h3><p>Th
 e dancefloor has been whispering your name… and this is your invitation.
 </p><p><br></p><p><strong>WELCOME TO BOTANIQUE!</strong></p><p><br></p><p>
 Hidden in the heart of Knysna at <strong>Oaks on Main</strong>\, a careful
 ly crafted experience is waiting just for you.</p><p>BOTANIQUE is not just
  another party—it’s a <strong>DEEP FUNK ORGANIC HOUSE mini-festival</s
 trong>\, lovingly brought to life by <strong>ONETWO SOUND SOLUTIONS</stron
 g> and <strong>THE NODE EVENTS</strong>. Think of it as a sensory playgrou
 nd: hypnotic sounds\, lush visuals\, and a space that radiates gratitude\,
  joy\, and connection.</p><p><br></p><p>“BOTANIQUE”—French for <em>b
 otanical</em>—unfolds in our <strong>organic garden</strong>\, under the
  wise gaze of the <strong>Milkwood Tree</strong>\, where free-spirited sou
 ls gather\, friendships blossom\, and the music carries you deeper into th
 e night.</p><p><br></p><h3>🎶 THE SOUND JOURNEY</h3><p>Expect an immersi
 ve ride through <strong>soulful deep funk</strong>\, <strong>organic house
  grooves</strong>\, and <strong>basslines that move the body and spirit al
 ike</strong></p><p><br></p><p><strong><u>LINEUP:</u></strong></p><p>18:00-
 20:00<strong> RAINBXW</strong></p><p>20:00-22:00 <strong>HUNTED MIKE</stro
 ng></p><p>22:00-00:00 <strong>SOUFLOW</strong></p><p><br></p><h3>✨ WHAT
 ’S ON OFFER</h3><p>🍸 <strong>The Node Bar</strong> – fully stocked 
 and ready</p><p>☕ <strong>Snobs Coffee</strong> – warm bites and comfo
 rting sips</p><p>💚 <strong>High Tide</strong> – upstairs\, sharing th
 eir signature <em>Garden Shares</em> (go say hi!)</p><p><br></p><h3>
 🎟️ TICKETS (via Howler)</h3><ul><li><strong>Early Bird</strong> – R
 170</li><li><strong>General Bird</strong> – R200</li><li><strong>Door</s
 trong> – R200 (from 17:00\, card only)</li></ul><p>👉 Online sales clo
 se 2<strong>pm</strong> on<strong> 25 APRIL</strong>. Gate sales available
  after that!</p><p><br></p><h3>📍 EVENT DETAILS</h3><p>🕕 Gates open: 
 17:00</p><p>🕕 Gates close: 10:30 (no more entries after that)</p><p>
 🎵 Last track: around 23:30 – 00:00</p><p><br></p><p>🌿✨ <strong>S
 o\, dust off your dancing shoes. Gather your tribe and dance beneath the M
 ilkwood Tree with us.</strong></p><p><br></p><p><br></p><p><br></p>
LOCATION:28 Main Road\, Oaks on Main\, Knysna 
SUMMARY:BOTANIQUE
URL;VALUE=URI:https://www.howler.co.za/BOTANIQUE12
END:VEVENT
END:VCALENDAR
