BEGIN:VCALENDAR
VERSION:2.0
PRODID:icalendar-ruby
CALSCALE:GREGORIAN
METHOD:PUBLISH
BEGIN:VEVENT
DTSTAMP:20260420T043541Z
UID:33c01061-b620-4399-8e55-fc24bf00de17
DTSTART:20260424T170900
DTEND:20260425T000000
DESCRIPTION:<p>🔥 <strong>Black Mambas Ladies Night Out</strong> 🔥</p>
 <p>The <strong>Black Mambas Ladies</strong> will be hosting an event at <s
 trong>Poppy's Cresta</strong>! 💃🏽✨</p><p>🎶 Music: Amapiano | Ho
 use | RnB | Old Skool</p><p>📍 Venue: Poppy's Cresta</p><p>🎉 Vibes: G
 ood music\, great company\, and lots of fun!</p><p>Come through and have a
  fun night with the ladies! 🖤🐍</p><p>Bring your friends\, your energ
 y\, and your dancing shoes! 💃🏽🔥</p><p>#BlackMambasLadies #LadiesN
 ight #GoodVibesOnly</p><p><br></p>
LOCATION:Corner Beyers Naude Drive and\, Judges Ave\, Cresta
SUMMARY:Black Mambas Hockey Fundraiser 
URL;VALUE=URI:https://www.howler.co.za/BlackMambas2026
END:VEVENT
END:VCALENDAR
