BEGIN:VCALENDAR
VERSION:2.0
PRODID:icalendar-ruby
CALSCALE:GREGORIAN
METHOD:PUBLISH
BEGIN:VEVENT
DTSTAMP:20260424T152423Z
UID:e55d8ce0-ee21-4da4-9b84-fdbb093bb7e8
DTSTART:20260430T170000
DTEND:20260501T020000
DESCRIPTION:<p><span>🔥 BACK 2 BASICS 🔥</span></p><p><br></p><p><span>
 Get ready for a night of pure vibes\, energy\, and unforgettable music at 
 Poppys 🎶</span></p><p><br></p><p><span>🎧 Featuring:</span></p><p><sp
 an>Dino Bravo • Joey G • DJ Rene • DJ DV • Kylo • VDJ Jayesh •
  Ashesh</span></p><p><br></p><p><span>📅 Date: Thursday\, 30 April 2026
  </span></p><p><span>⏰ Next day is a Public Holiday – no excuses!</sp
 an></p><p><br></p><p><span>📍 Venue: Cnr Beyers Naude Dr & Judges Ave\, 
 Cresta\, Randburg </span></p><p><br></p><p><span>🎟️ Table Bookings: 
 072 356 2452 </span></p><p><br></p><p><span>Brought to you by Chilli Funk
  x EXP Entertainment </span></p><p><br></p><p><span>This is not just a pa
 rty… it’s a return to the roots. </span></p><p><span>#Back2Basics #Po
 ppys #JoburgNights #ChilliFunk #EXPEntertainment #PartyVibes #PublicHolida
 yTurnUp</span></p><p><br></p>
LOCATION:Corner Beyers Naude Drive and\, Judges Ave\, Cresta
SUMMARY:Back2Basics 
URL;VALUE=URI:https://www.howler.co.za/back2Basics3
END:VEVENT
END:VCALENDAR
