BEGIN:VCALENDAR
VERSION:2.0
PRODID:icalendar-ruby
CALSCALE:GREGORIAN
METHOD:PUBLISH
BEGIN:VEVENT
DTSTAMP:20260421T193920Z
UID:d101b058-3729-4169-8f80-b224e6819c2e
DTSTART:20241005T150000
DTEND:20241006T000000
DESCRIPTION:<p>Be Ready to indulge A Thrilling Experience with Astound Conv
 ictions</p>
LOCATION:To Be Revealed
SUMMARY:Astound Convictions Spring Break
URL;VALUE=URI:https://www.howler.co.za/astoundconviction
END:VEVENT
END:VCALENDAR
