BEGIN:VCALENDAR
VERSION:2.0
PRODID:icalendar-ruby
CALSCALE:GREGORIAN
METHOD:PUBLISH
BEGIN:VEVENT
DTSTAMP:20260425T221507Z
UID:6d27bcfb-f016-4f0f-a06e-c2e88eb463c5
DTSTART:20220507T110000
DTEND:20220507T180000
DESCRIPTION:<p><strong style="color: rgb(34\, 34\, 34)\;">The Inanda Polo C
 lub Raises the Bar when South Africa Line Up Against Argentina at the Aon 
 Inanda International Polo in Association with Bravo Brands on 7</strong><s
 up style="color: rgb(34\, 34\, 34)\;"><strong>th</strong></sup><strong sty
 le="color: rgb(34\, 34\, 34)\;"> May 2022. </strong></p><p><span style="co
 lor: rgb(34\, 34\, 34)\;"> </span></p><p><span style="color: rgb(34\, 34\
 , 34)\;">The much-anticipated clash of the polo titans will be rated at 24
  goals\, requiring the South African team to field their highest rated pla
 yers as they take on the side from Argentina. </span></p><p><span style="c
 olor: rgb(34\, 34\, 34)\;"> </span></p><p><span style="color: rgb(34\, 34
 \, 34)\;">The Aon Inanda International Polo\, in association with Bravo Br
 ands\, is one of the most eagerly-awaited highlights on the sport\, fashio
 n and entertainment calendars. Surrounded by the richest square mile on th
 e African continent\, spectators can look forward to some nail-biting Polo
  action.</span></p><p><br></p><p><span style="color: rgb(34\, 34\, 34)\;">
 ﻿The Inanda Polo Club looks forward to welcoming spectators to the club 
 with brand new innovations that will excite polo enthusiasts as well as th
 ose seeking the luxury lifestyle that the sport of polo has become synonym
 ous with. Guests will be dazzled with high-end luxury picnic sites\, compl
 ete with refreshments to ensure a fun day out with family and friends. </s
 pan></p><p><span style="color: rgb(34\, 34\, 34)\;"> </span></p><p><span 
 style="color: rgb(34\, 34\, 34)\;">Entry packages range from R5\,500 for 1
 0pax. Hospitality and ticketing will be limited\, and no ticket purchases 
 will be made available on the day. Guests are encouraged to purchase ticke
 ts ahead of the event to avoid disappointment. </span></p>
LOCATION:Inanda Club\, Forrest Road & 6th Avenue\, Inanda\, Sandton\, Johan
 nesburg
SUMMARY:Aon Inanda International Polo in association with Bravo Brands
URL;VALUE=URI:https://www.howler.co.za/AonBravoBrandsPolo
END:VEVENT
END:VCALENDAR
