BEGIN:VCALENDAR
VERSION:2.0
PRODID:icalendar-ruby
CALSCALE:GREGORIAN
METHOD:PUBLISH
BEGIN:VEVENT
DTSTAMP:20260424T133243Z
UID:8dac1a32-7020-493a-917d-b6be94901e3f
DTSTART:20260426T160000
DTEND:20260427T020000
DESCRIPTION:<p>Step into a timeless experience where good music\, great vib
 es\, and classic memories come together. Aged to Perfection is not just an
  event—it’s a celebration of old school sounds\, style\, and energy.</
 p>
LOCATION:19 Wessel Road\, Edenburg\, Rivonia\, Johannesburg\, 2021
SUMMARY:Aged To Perfection 
URL;VALUE=URI:https://www.howler.co.za/ATP2
END:VEVENT
END:VCALENDAR
