BEGIN:VCALENDAR
VERSION:2.0
PRODID:icalendar-ruby
CALSCALE:GREGORIAN
METHOD:PUBLISH
BEGIN:VEVENT
DTSTAMP:20260420T141843Z
UID:ace473a8-6afa-477c-813c-22b1e99694e4
DTSTART:20251217T200000
DTEND:20251217T210000
DESCRIPTION:<p>JBay Bash 2025</p>
LOCATION:30 Diaz Road\, Jeffrey’s Bay\, Eastern Cape
SUMMARY:17 December 2025 - Juan Boucher
URL;VALUE=URI:https://www.howler.co.za/JuanBoucherjollies
END:VEVENT
END:VCALENDAR
